BEGIN:VCALENDAR
VERSION:2.0
PRODID:-//ChamberMaster//Event Calendar 2.0//EN
METHOD:PUBLISH
X-PUBLISHED-TTL:P3D
REFRESH-INTERVAL:P3D
CALSCALE:GREGORIAN
BEGIN:VEVENT
DTSTART:20150722T010000Z
DTEND:20150721T190000Z
X-MICROSOFT-CDO-ALLDAYEVENT:FALSE
SUMMARY:2015 Crab Feed hosted by Gray Lumber Company and the Remodelors Council
DESCRIPTION:
X-ALT-DESC;FMTTYPE=text/html:
LOCATION:6320 Grandview Drive West University Place\, WA 98467
UID:e.9280.33
SEQUENCE:3
DTSTAMP:20260423T195731Z
URL:https://members.masterbuilderspierce.com/events/details/2015-crab-feed-hosted-by-gray-lumber-company-and-the-remodelors-council-33
END:VEVENT

END:VCALENDAR
