BEGIN:VCALENDAR
VERSION:2.0
PRODID:-//ChamberMaster//Event Calendar 2.0//EN
METHOD:PUBLISH
X-PUBLISHED-TTL:P3D
REFRESH-INTERVAL:P3D
CALSCALE:GREGORIAN
BEGIN:VEVENT
DTSTART;VALUE=DATE:20140520
DTEND;VALUE=DATE:20140521
TRANSP:TRANSPARENT
X-MICROSOFT-CDO-ALLDAYEVENT:TRUE
SUMMARY:2014 REX Awards (Remodeling Excellence Awards)
DESCRIPTION:RSVP at https://rex2014.eventbrite.com
X-ALT-DESC;FMTTYPE=text/html:RSVP at <a href="https://rex2014.eventbrite.com">https://rex2014.eventbrite.com&nbsp\;</a>
LOCATION:2013 South Cedar St. Tacoma\, WA 98405
UID:e.9280.5
SEQUENCE:3
DTSTAMP:20260424T191121Z
URL:https://members.masterbuilderspierce.com/events/details/2014-rex-awards-remodeling-excellence-awards-5
END:VEVENT

END:VCALENDAR
