BEGIN:VCALENDAR
VERSION:2.0
PRODID:-//ChamberMaster//Event Calendar 2.0//EN
METHOD:PUBLISH
X-PUBLISHED-TTL:P3D
REFRESH-INTERVAL:P3D
CALSCALE:GREGORIAN
BEGIN:VEVENT
DTSTART;VALUE=DATE:20140325
DTEND;VALUE=DATE:20140326
TRANSP:TRANSPARENT
X-MICROSOFT-CDO-ALLDAYEVENT:TRUE
SUMMARY:2014 Remodelors Council Meeting - March
DESCRIPTION:
X-ALT-DESC;FMTTYPE=text/html:
LOCATION:10324 Canyon Road East\, Suite 101 Puyallup\,\, WA 98373
UID:e.9280.2
SEQUENCE:3
DTSTAMP:20260424T222740Z
URL:https://members.masterbuilderspierce.com/events/details/2014-remodelors-council-meeting-march-2
END:VEVENT

END:VCALENDAR
