BEGIN:VCALENDAR
VERSION:2.0
PRODID:-//ChamberMaster//Event Calendar 2.0//EN
METHOD:PUBLISH
X-PUBLISHED-TTL:P3D
REFRESH-INTERVAL:P3D
CALSCALE:GREGORIAN
BEGIN:VEVENT
DTSTART;VALUE=DATE:20140826
DTEND;VALUE=DATE:20140827
TRANSP:TRANSPARENT
X-MICROSOFT-CDO-ALLDAYEVENT:TRUE
SUMMARY:2014 Remodelors Council Meeting - August
DESCRIPTION:Join us at CFM for a Sizzling Steak Dinner with all the fixins! Steve Frazier will join us all the way from Oregon with the CFM trailer and some great tasting steaks\, chili\, corn and drinks. Don't miss out on this great annual meeting. We will also have a Steering Committee meeting at 4:30 prior to this meeting.
X-ALT-DESC;FMTTYPE=text/html:Join us at CFM for a Sizzling Steak Dinner with all the fixins! Steve Frazier will join us all the way from Oregon with the CFM trailer and some great tasting steaks\, chili\, corn and drinks. Don&#39\;t miss out on this great annual meeting. We will also have a Steering Committee meeting at 4:30 prior to this meeting.
LOCATION:3600 E Industry Drive Fife\, WA 98424
UID:e.9280.8
SEQUENCE:3
DTSTAMP:20260424T135950Z
URL:https://members.masterbuilderspierce.com/events/details/2014-remodelors-council-meeting-august-8
END:VEVENT

END:VCALENDAR
