BEGIN:VCALENDAR
VERSION:2.0
PRODID:-//ChamberMaster//Event Calendar 2.0//EN
METHOD:PUBLISH
X-PUBLISHED-TTL:P3D
REFRESH-INTERVAL:P3D
CALSCALE:GREGORIAN
BEGIN:VEVENT
DTSTART:20141017T010000Z
DTEND:20141017T010000Z
X-MICROSOFT-CDO-ALLDAYEVENT:FALSE
SUMMARY:2014 General Membership Meeting - October
DESCRIPTION:
X-ALT-DESC;FMTTYPE=text/html:
LOCATION:10117 S Tacoma Way Tacoma\, WA 98499
UID:e.9280.39
SEQUENCE:3
DTSTAMP:20260424T104459Z
URL:https://members.masterbuilderspierce.com/events/details/2014-general-membership-meeting-october-39
END:VEVENT

END:VCALENDAR
