BEGIN:VCALENDAR
VERSION:2.0
PRODID:-//ChamberMaster//Event Calendar 2.0//EN
METHOD:PUBLISH
X-PUBLISHED-TTL:P3D
REFRESH-INTERVAL:P3D
CALSCALE:GREGORIAN
BEGIN:VEVENT
DTSTART:20140319T010000Z
DTEND:20140319T010000Z
X-MICROSOFT-CDO-ALLDAYEVENT:FALSE
SUMMARY:2014 General Membership Meeting - March
DESCRIPTION:
X-ALT-DESC;FMTTYPE=text/html:
LOCATION:10117 South Tacoma Way Lakewood\, WA 98499
UID:e.9280.29
SEQUENCE:3
DTSTAMP:20260424T222603Z
URL:https://members.masterbuilderspierce.com/events/details/2014-general-membership-meeting-march-29
END:VEVENT

END:VCALENDAR
