BEGIN:VCALENDAR
VERSION:2.0
PRODID:-//ChamberMaster//Event Calendar 2.0//EN
METHOD:PUBLISH
X-PUBLISHED-TTL:P3D
REFRESH-INTERVAL:P3D
CALSCALE:GREGORIAN
BEGIN:VEVENT
DTSTART:20140219T020000Z
DTEND:20140219T020000Z
X-MICROSOFT-CDO-ALLDAYEVENT:FALSE
SUMMARY:2014 General Membership Meeting - February
DESCRIPTION:
X-ALT-DESC;FMTTYPE=text/html:
LOCATION:
UID:e.9280.28
SEQUENCE:3
DTSTAMP:20260425T001545Z
URL:https://members.masterbuilderspierce.com/events/details/2014-general-membership-meeting-february-28
END:VEVENT

END:VCALENDAR
