BEGIN:VCALENDAR
VERSION:2.0
PRODID:-//ChamberMaster//Event Calendar 2.0//EN
METHOD:PUBLISH
X-PUBLISHED-TTL:P3D
REFRESH-INTERVAL:P3D
CALSCALE:GREGORIAN
BEGIN:VEVENT
DTSTART:20140917T010000Z
DTEND:20140917T010000Z
X-MICROSOFT-CDO-ALLDAYEVENT:FALSE
SUMMARY:2014 General Membership Dinner - September
DESCRIPTION:
X-ALT-DESC;FMTTYPE=text/html:
LOCATION:
UID:e.9280.43
SEQUENCE:3
DTSTAMP:20260424T121737Z
URL:https://members.masterbuilderspierce.com/events/details/2014-general-membership-dinner-september-43
END:VEVENT

END:VCALENDAR
