BEGIN:VCALENDAR
VERSION:2.0
PRODID:-//ChamberMaster//Event Calendar 2.0//EN
METHOD:PUBLISH
X-PUBLISHED-TTL:P3D
REFRESH-INTERVAL:P3D
CALSCALE:GREGORIAN
BEGIN:VEVENT
DTSTART;VALUE=DATE:20140410
DTEND;VALUE=DATE:20140411
TRANSP:TRANSPARENT
X-MICROSOFT-CDO-ALLDAYEVENT:TRUE
SUMMARY:2014 Design Professionals Council meeting - April
DESCRIPTION:Network with the Design Professionals Council members at Albert Lee Appliance's Tacoma location.  Guests at this meeting will be placed into groups with ten different chefs throughout the facility to create meal to remember for all attendees. \n\n \n\nLearn about products\, Albert Lee Appliance and hear tips and tricks from the chefs.
X-ALT-DESC;FMTTYPE=text/html:<div>Network with the Design Professionals Council members at Albert Lee Appliance&#39\;s Tacoma location. &nbsp\;Guests at this meeting will be placed into groups with ten different chefs throughout the facility to create meal to remember for all attendees.&nbsp\;</div>\n\n<div>&nbsp\;</div>\n\n<div>Learn about products\, Albert Lee Appliance and hear tips and tricks from the chefs.&nbsp\;</div>\n
LOCATION:4124 Tacoma Mall Blvd Tacoma\, WA 98409
UID:e.9280.3
SEQUENCE:3
DTSTAMP:20260424T222902Z
URL:https://members.masterbuilderspierce.com/events/details/2014-design-professionals-council-meeting-april-3
END:VEVENT

END:VCALENDAR
