BEGIN:VCALENDAR
VERSION:2.0
PRODID:-//ChamberMaster//Event Calendar 2.0//EN
METHOD:PUBLISH
X-PUBLISHED-TTL:P3D
REFRESH-INTERVAL:P3D
CALSCALE:GREGORIAN
BEGIN:VEVENT
DTSTART;VALUE=DATE:20140612
DTEND;VALUE=DATE:20140613
TRANSP:TRANSPARENT
X-MICROSOFT-CDO-ALLDAYEVENT:TRUE
SUMMARY:2014 Design Professionals Council - June Rain Gardens and Green Landscaping
DESCRIPTION:
X-ALT-DESC;FMTTYPE=text/html:
LOCATION:3510 S Mullen St Tacoma\, WA 98409
UID:e.9280.6
SEQUENCE:3
DTSTAMP:20260424T173225Z
URL:https://members.masterbuilderspierce.com/events/details/2014-design-professionals-council-june-rain-gardens-and-green-landscaping-6
END:VEVENT

END:VCALENDAR
