BEGIN:VCALENDAR
VERSION:2.0
PRODID:-//ChamberMaster//Event Calendar 2.0//EN
METHOD:PUBLISH
X-PUBLISHED-TTL:P3D
REFRESH-INTERVAL:P3D
CALSCALE:GREGORIAN
BEGIN:VEVENT
DTSTART;VALUE=DATE:20140722
DTEND;VALUE=DATE:20140723
TRANSP:TRANSPARENT
X-MICROSOFT-CDO-ALLDAYEVENT:TRUE
SUMMARY:2014 Crab Feed hosted by Gray Lumber Company and the Remodelors Council
DESCRIPTION:Click here to register\n\n \n\n12th Annual MBA \n\nCrab Feed \n\nhosted by Gray Lumber Company & the Remodelors Council\n\n \n\nTuesday\, July 22 - 5:30 pm\n\nChambers Bay Golf Course 6320 Grandview Drive West\, University Place\n\n \n\n$40 per person ( includes dinner / beverage / dessert)    \n\n \n\nHosted by Gray Lumber Company\n\nSupported by Associated Petroleum Products\, Hyland Cabinetworks\, Contour Countertops\, Milgard Windows & Doors
X-ALT-DESC;FMTTYPE=text/html:<div><a href="http://rccrabfeed2014.eventbrite.com" style="font-weight:">Click here to register</a></div>\n\n<div>&nbsp\;</div>\n\n<div>12th Annual MBA&nbsp\;</div>\n\n<div>Crab Feed&nbsp\;</div>\n\n<div>hosted by Gray Lumber Company &amp\; the Remodelors Council</div>\n\n<div>&nbsp\;</div>\n\n<div>Tuesday\, July 22 - 5:30 pm</div>\n\n<div>Chambers Bay Golf Course 6320 Grandview Drive West\, University Place</div>\n\n<div>&nbsp\;</div>\n\n<div>$40 per person ( includes dinner / beverage / dessert) &nbsp\; &nbsp\;</div>\n\n<div>&nbsp\;</div>\n\n<div><span style="font-weight:">Hosted by <a href="http://www.graylumber.com/">Gray Lumber Company</a></span></div>\n\n<div>Supported by <a href="http://www.associatedpetroleum.com">Associated Petroleum Products</a>\,&nbsp\;<a href="http://hylandcabinetworks.com/">Hyland Cabinetworks</a>\, <a href="http://www.contourcountertops.com/">Contour Countertops</a>\, <a href="http://www.milgard.com/">Milgard Windows &amp\; Doors</a></div>\n
LOCATION:9850 64th St West University Place\, WA 98467
UID:e.9280.7
SEQUENCE:3
DTSTAMP:20260424T154540Z
URL:https://members.masterbuilderspierce.com/events/details/2014-crab-feed-hosted-by-gray-lumber-company-and-the-remodelors-council-7
END:VEVENT

END:VCALENDAR
